BEGIN:VCALENDAR
VERSION:2.0
PRODID:-//wp-events-plugin.com//6.6.4.4//EN
TZID:Europe/London
X-WR-TIMEZONE:Europe/London
BEGIN:VEVENT
UID:864@tarbertsportshub.co.uk
DTSTART:20260503T100000Z
DTEND:20260503T190000Z
DTSTAMP:20260331T210025Z
URL:https://tarbertsportshub.co.uk/events/private-booking-2026-05-03/
SUMMARY:Private Booking
DESCRIPTION:Private Booking
CATEGORIES:Village Hall
LOCATION:Tarbert Village Hall\, Campbeltown Road\, Tarbert\, PA29 6SX\, Sco
 tland\, United Kingdom
GEO:55.861948;-5.419404
X-APPLE-STRUCTURED-LOCATION;VALUE=URI;X-ADDRESS=Campbeltown Road\, Tarbert\
 , PA29 6SX\, Scotland\, United Kingdom;X-APPLE-RADIUS=100;X-TITLE=Tarbert 
 Village Hall:geo:55.861948,-5.419404
END:VEVENT
END:VCALENDAR